BEGIN:VCALENDAR
VERSION:2.0
PRODID:-//Nachbarschaftshilfe Bad Nauheim e.V. - ECPv6.15.20//NONSGML v1.0//EN
CALSCALE:GREGORIAN
METHOD:PUBLISH
X-WR-CALNAME:Nachbarschaftshilfe Bad Nauheim e.V.
X-ORIGINAL-URL:https://www.nachbarschaftshilfe-bad-nauheim.de
X-WR-CALDESC:Veranstaltungen für Nachbarschaftshilfe Bad Nauheim e.V.
REFRESH-INTERVAL;VALUE=DURATION:PT1H
X-Robots-Tag:noindex
X-PUBLISHED-TTL:PT1H
BEGIN:VTIMEZONE
TZID:Europe/Berlin
BEGIN:DAYLIGHT
TZOFFSETFROM:+0100
TZOFFSETTO:+0200
TZNAME:CEST
DTSTART:20290325T010000
END:DAYLIGHT
BEGIN:STANDARD
TZOFFSETFROM:+0200
TZOFFSETTO:+0100
TZNAME:CET
DTSTART:20291028T010000
END:STANDARD
BEGIN:DAYLIGHT
TZOFFSETFROM:+0100
TZOFFSETTO:+0200
TZNAME:CEST
DTSTART:20300331T010000
END:DAYLIGHT
BEGIN:STANDARD
TZOFFSETFROM:+0200
TZOFFSETTO:+0100
TZNAME:CET
DTSTART:20301027T010000
END:STANDARD
BEGIN:DAYLIGHT
TZOFFSETFROM:+0100
TZOFFSETTO:+0200
TZNAME:CEST
DTSTART:20310330T010000
END:DAYLIGHT
BEGIN:STANDARD
TZOFFSETFROM:+0200
TZOFFSETTO:+0100
TZNAME:CET
DTSTART:20311026T010000
END:STANDARD
END:VTIMEZONE
BEGIN:VEVENT
DTSTART;TZID=Europe/Berlin:20301030T133000
DTEND;TZID=Europe/Berlin:20301030T173000
DTSTAMP:20260423T035952
CREATED:20250604T164319Z
LAST-MODIFIED:20251107T104503Z
UID:10010906-1919597400-1919611800@www.nachbarschaftshilfe-bad-nauheim.de
SUMMARY:Open Lounge - Treff
DESCRIPTION:Offene Lounge in der Begegnungsstätte K13 – Begegnung\, Austausch & mehr \nWillkommen in der Offenen Lounge der Begegnungsstätte K13 in Bad Nauheim!Hier treffen sich Menschen aus der Nachbarschaft und Umgebung – ganz unkompliziert und ohne Anmeldung. \nOb bei einer Tasse Kaffee\, einem kleinen Spiel\, netten Gesprächen oder einfach zum gemütlichen Verweilen – die Lounge lädt ein zum Dasein und Mitmachen. \nDie Nachmittage werden von wechselnden Gastgeberinnen und Gastgebern begleitet\, die für eine angenehme Atmosphäre sorgen und kleine Impulse mitbringen – mal kreativ\, mal spielerisch\, mal einfach nur zum Reden. \nJeder ist willkommen – komm vorbei\, bleib so lange du magst und genieße die Gemeinschaft. \nOrt: Begegnungsstätte K13\, Bad Nauheim (Kurstr. 13-15)Zeit: Di – Fr. 13.30 Uhr – 17.30 Uhr
URL:https://www.nachbarschaftshilfe-bad-nauheim.de/event/open-lounge-treffpunkt-in-bad-nauheim/2030-10-30/
LOCATION:K13 Begegnungen\, Kurstr. 13 - 15\, Bad Nauheim\, Hessen\, 61231\, Germany
ATTACH;FMTTYPE=image/png:https://www.nachbarschaftshilfe-bad-nauheim.de/wp-content/uploads/2025/06/Open-Lounge-2-scaled.png
ORGANIZER;CN="Nachbarschaftshilfe Bad Nauheim":MAILTO:info@nachbarschaftshilfe-bad-nauheim.de
END:VEVENT
BEGIN:VEVENT
DTSTART;TZID=Europe/Berlin:20301030T140000
DTEND;TZID=Europe/Berlin:20301030T150000
DTSTAMP:20260423T035952
CREATED:20250924T091301Z
LAST-MODIFIED:20260404T094202Z
UID:10011759-1919599200-1919602800@www.nachbarschaftshilfe-bad-nauheim.de
SUMMARY:Rudelsingen mit Toni & Manfred
DESCRIPTION:Jeden Mittwoch von 14 – 15 Uhr findet im K13 das beliebte „Rudelsingen“ mit Toni und Manfred statt. \nEs werden Lieder von Pop bis Schlager oder auch beliebte Lieder aus der Folk-Musik gesungen. Mal hört man „Atemlos“ mal „We are the Champions“ oder auch Klassiker wie „Country Roads“. \nDie Songtexte werden auf dem eigenen Handy angezeigt. \nDie Veranstatung ist im Rahmen der Open-Lounge kostenfrei.
URL:https://www.nachbarschaftshilfe-bad-nauheim.de/event/rudelsingen-mit-toni-manfred/2030-10-30/
LOCATION:K13 Begegnungen\, Kurstr. 13 - 15\, Bad Nauheim\, Hessen\, 61231\, Germany
ATTACH;FMTTYPE=image/png:https://www.nachbarschaftshilfe-bad-nauheim.de/wp-content/uploads/2025/09/Rudelsingen-scaled.png
ORGANIZER;CN="Nachbarschaftshilfe Bad Nauheim":MAILTO:info@nachbarschaftshilfe-bad-nauheim.de
END:VEVENT
END:VCALENDAR